BEGIN:VCALENDAR
VERSION:2.0
PRODID:spatie/icalendar-generator
DESCRIPTION:Événements de Municaplité Canton de Roxton
X-WR-CALDESC:Événements de Municaplité Canton de Roxton
REFRESH-INTERVAL;VALUE=DURATION:PT1440M
X-PUBLISHED-TTL:PT1440M
BEGIN:VTIMEZONE
TZID:America/Toronto
BEGIN:DAYLIGHT
DTSTART:20250309T020000Z
TZOFFSETFROM:-0500
TZOFFSETTO:-0400
END:DAYLIGHT
BEGIN:STANDARD
DTSTART:20251102T020000Z
TZOFFSETFROM:-0400
TZOFFSETTO:-0500
END:STANDARD
END:VTIMEZONE
BEGIN:VTIMEZONE
TZID:UTC
BEGIN:STANDARD
DTSTART:20250729T132732Z
TZOFFSETFROM:+0000
TZOFFSETTO:+0000
END:STANDARD
END:VTIMEZONE
BEGIN:VEVENT
UID:63-58
DTSTAMP:20260425T132732Z
SUMMARY:Réunions mensuelles Maison Jeunesse Oxybulle de Roxton Falls
LOCATION:Municipalité du Canton de Roxton
ORGANIZER;CN=canton:MAILTO:info@cantonderoxton.qc.ca
DTSTART;TZID=America/Toronto:20250826T170000
DTEND;TZID=America/Toronto:20250826T190000
X-ALT-DESC;FMTTYPE=TEXT/HTML:Réunions mensuelles du conseil d'administrati
 on de la Maison jeunesse Oxybulle de Roxton Falls
CATEGORIES:General
URL;VALUE=URI:https://cantonderoxton.qc.ca/mc-events/reunions-mensuelles-ma
 ison-jeunesse-oxybulle-de-roxton-falls-3/
METHOD:PUBLISH
END:VEVENT
END:VCALENDAR